Workbook

Sheet db_emp
A1: BDES-2-B | K1: COM DADOS | L1: COM DADOS | M1: INDEPEND. | N1: =COUNTIF(N7:N156,"=S") -> 92
J2: Sim | K2: =COUNTIF(K7:K156,"=SIM") -> 113 | L2: =COUNTIF(L7:L156,"=SIM") -> 108 | M2: =COUNTIF(M7:M156,"=SIM") -> 114 | N2: =COUNTIF(N7:N156,"=N") -> 7
J3: Não | K3: =COUNTIF(K7:K156,"=não") -> 35 | L3: =COUNTIF(L7:L156,"=não") -> 40 | M3: =COUNTIF(M7:M156,"=não") -> 9 | N3: =COUNTIF(N7:N156,"=NSA") -> 21
K4: =SUM(K2:K3) -> 148 | L4: =SUM(L2:L3) -> 148 | M4: =SUM(M2:M3) -> 123
A6: Cod4 | B6: Grupo Empresarial | C6: Nome | D6: Cod4 | E6: Grupo | F6: (5) Subsetor de origem | G6: Br/Estr | H6: Rec.Líq. 2022 | I6: Razão Social | J6: CNPJ | K6: RL>= 1,0 bi em2022? | L6: Dados Sim/Não | M6: Atualmente Existente de forma independente | N6: Coleta da DFP/balanço de 2023
A7: ABBO | B7: Abott | C7: =A7&" - "&B7 -> ABBO - Abott | D7: ABBO | E7: ABBO | F7: Ind. Farmacêutica | G7: ESTR | H7: 2749700 | I7: ABBOTT LABORATORIOS DO BRASIL LTDA. | J7: 56.998.701/0001-16 | K7: Sim | L7: NÃO | M7: Sim | N7: NSA
A8: ACCA | B8: A.C. Camargo Cancer Center | C8: =A8&" - "&B8 -> ACCA - A.C. Camargo Cancer Center | D8: ACCA | E8: ACCA | F8: Redes Hospitalares | G8: BR | H8: 1142277 | I8: FUNDAÇÃO ANTONIO PRUDENTE | J8: 60.961.968/0001-06 | K8: Sim | L8: Sim | M8: Sim | N8: S
A9: ACHE | B9: Aché | C9: =A9&" - "&B9 -> ACHE - Aché | D9: ACHE | E9: ACHE | F9: Ind. Farmacêutica | G9: BR | H9: 4977629 | I9: Aché Laboratórios Farmacêuticos S.A | J9: 60.659.463/0001-91 | K9: Sim | L9: Sim | M9: Sim | N9: S
A10: ACSC | B10: Assoc. Congreg. Santa Catarina (Hospital Santa Catarina) | C10: =A10&" - "&B10 -> ACSC - Assoc. Congreg. Santa Catarina (Hospital Santa Catarina) | D10: ACSC | E10: ACSC | F10: Redes Hospitalares | G10: BR | H10: 2367400 | I10: Associação Congregação de Santa Catarina | J10: 60.922.168/0001 - 86 | K10: Sim | L10: Sim | M10: Sim | N10: S
A11: ALLI | B11: Alliança | C11: =A11&" - "&B11 -> ALLI - Alliança | D11: ALLI | E11: ALLI | F11: Diagnóstico e Terapia | G11: BR | H11: 1085009 | I11: Centro de Imagem Diagnósticos S.A. | J11: 42.771.949/0018-83 | K11: Sim | L11: Sim | M11: Sim | N11: S
A12: AMIN | B12: Amil | C12: =A12&" - "&B12 -> AMIN - Amil | D12: AMIN | E12: AMIN | F12: Planos e Seguros | G12: ESTR | H12: 18380021 | I12: Amil Assistência Médica Internacional S.A. | J12: 29.309.127/0001-79 | K12: Sim | L12: Sim | M12: Sim | N12: S
A13: APSE | B13: Apsen | C13: =A13&" - "&B13 -> APSE - Apsen | D13: APSE | E13: APSE | F13: Ind. Farmacêutica | G13: BR | H13: 1146839 | I13: Apsen Farmacêutica S.A. | J13: 62.462.015/0001-29 | K13: Sim | L13: Sim | M13: Sim | N13: S
A14: ARAU | B14: Araújo | C14: =A14&" - "&B14 -> ARAU - Araújo | D14: ARAU | E14: ARAU | F14: Farmácias e Drogarias | G14: BR | H14: 3087151 | I14: Drogaria Araujo S.A. | J14: 17.256.512/0001-16 | K14: Sim | L14: Sim | M14: Sim | N14: S
A15: ASSI | B15: Assim Saúde | C15: =A15&" - "&B15 -> ASSI - Assim Saúde | D15: ASSI | E15: ASSI | F15: Planos e Seguros | G15: BR | H15: 1786426 | I15: GRUPO HOSPITALAR DO RIO DE JANEIRO LTDA. | J15: 31.925.548/0001-76 | K15: Sim | L15: Sim | M15: Sim | N15: S
A16: ASZE | B16: AstraZeneca | C16: =A16&" - "&B16 -> ASZE - AstraZeneca | D16: ASZE | E16: ASZE | F16: Ind. Farmacêutica | G16: ESTR | H16: 1941076 | I16: AstraZeneca do Brasil Ltda. | J16: 60.318.797/0001-00 | K16: Sim | L16: Sim | M16: Sim | N16: N
A17: ATHE | B17: Athena Saúde | C17: =A17&" - "&B17 -> ATHE - Athena Saúde | D17: ATHE | E17: ATHE | F17: Planos e Seguros | G17: BR | H17: 2855733 | I17: Athena Saúde Brasil S.A. | J17: 31.701.408/0001-14 | K17: Sim | L17: Sim | M17: Sim | N17: S
A18: BAYE | B18: Bayer Pharma | C18: =A18&" - "&B18 -> BAYE - Bayer Pharma | D18: BAYE | E18: BAYE | F18: Ind. Farmacêutica | G18: ESTR | H18: 5070144 | I18: BAYER S.A. | J18: 18.459.628/0001-15 | K18: Sim | L18: Sim | M18: Sim | N18: S
... A22: BLAU | B22: Blau | C22: =A22&" - "&B22 -> BLAU - Blau | D22: BLAU | E22: BLAU | F22: Ind. Farmacêutica | G22: BR | H22: 1181804 | I22: Blau Farmacêutica S.A. | J22: 58.430.828/0001-60 | K22: Sim | L22: Sim | M22: Sim | N22: S
A23: BOEH | B23: Boehringer Ingelhein | C23: =A23&" - "&B23 -> BOEH - Boehringer Ingelhein | D23: BOEH | E23: BOEH | F23: Ind. Farmacêutica | G23: ESTR | H23: ND | I23: BOEHRINGER INGELHEIM DO BRASIL QUIMICA E FARMACEUTICA LTDA. | J23: 60.831.658/0001-77 | K23: Sim | L23: NÃO | M23: Sim | N23: NSA
A24: BRIS | B24: Bristol-Myers Squibb | C24: =A24&" - "&B24 -> BRIS - Bristol-Myers Squibb | D24: BRIS | E24: BRIS | F24: Ind. Farmacêutica | G24: ESTR | H24: 1623800 | I24: BRISTOL-MYERS SQUIBB FARMACÊUTICA LTDA. | J24: 56.998.982/0001-07 | K24: Sim | L24: Sim | M24: Sim | N24: S
A25: BRSA | B25: Bradesco Saúde | C25: =A25&" - "&B25 -> BRSA - Bradesco Saúde | D25: BRSA | E25: BRSA | F25: Planos e Seguros | G25: BR | H25: 30094906 | I25: Bradesco Saúde S.A. | J25: 92.693.118/0001-60 | K25: Sim | L25: Sim | M25: Sim | N25: S
A26: BUTA | B26: Fundação Butantan | C26: =A26&" - "&B26 -> BUTA - Fundação Butantan | D26: BUTA | E26: BUTA | F26: Ind. Farmacêutica | G26: BR | H26: 2618724 | I26: Fundação Butantan | J26: 61.189.445/0001-56 | K26: Sim | L26: Sim | M26: Sim | N26: S
A27: CARE | B27: Care Plus | C27: =A27&" - "&B27 -> CARE - Care Plus | D27: CARE | E27: CARE | F27: Planos e Seguros | G27: BR | H27: 1713039 | I27: Care Plus Medicina Assistencial Ltda. | J27: 02.725.347/0001-27 | K27: Sim | L27: Sim | M27: Sim | N27: S
A28: CASS | B28: CASSI | C28: =A28&" - "&B28 -> CASS - CASSI | D28: CASS | E28: CASS | F28: Planos e Seguros | G28: BR | H28: 6349346 | I28: Caixa de Assistencia dos Funcionarios do Banco do Brasil | J28: 33.719.485/0001-27 | K28: Sim | L28: Sim | M28: Sim | N28: S
A29: CEJA | B29: CEJAM | C29: =A29&" - "&B29 -> CEJA - CEJAM | D29: CEJA | E29: CEJA | F29: Gestão como OS | G29: BR | H29: 2200638 | I29: Centro de Estudos e Pesquisas Dr Joao Amorim | J29: 66.518.267/0001-83 | K29: Sim | L29: Sim | M29: Sim | N29: S
A30: CIME | B30: Grupo Cimed | C30: =A30&" - "&B30 -> CIME - Grupo Cimed | D30: CIME | E30: CIME | F30: Ind. Farmacêutica | G30: BR | H30: 1357983 | I30: Cimed Indústria S.A. | J30: 02.814.497/0001-07 | K30: Sim | L30: Sim | M30: Sim | N30: S
A31: CLAM | B31: Clamed | C31: =A31&" - "&B31 -> CLAM - Clamed | D31: CLAM | E31: CLAM | F31: Farmácias e Drogarias | G31: BR | H31: 2575720 | I31: CIA LATINO AMERICANA DE MEDICAMENTOS | J31: 84.683.481/0001-77 | K31: Sim | L31: Sim | M31: Sim | N31: NSA
A32: COND | B32: Farma Conde | C32: =A32&" - "&B32 -> COND - Farma Conde | D32: COND | E32: COND | F32: Farmácias e Drogarias | G32: BR | H32: 1226000 | I32: Mc Drogaria Ltda | J32: 18.383.936/0001-04 | K32: Sim | L32: NÃO | M32: Sim | N32: NSA
A33: DASA | B33: DASA | C33: =A33&" - "&B33 -> DASA - DASA | D33: DASA | E33: DASA | F33: Diagnóstico e Terapia | G33: BR | H33: 13128893 | I33: Diagnósticos da América S.A. | J33: 61.486.650/0001-83 | K33: Sim | L33: Sim | M33: Sim | N33: S
A34: DIME | B34: DIMED/Grupo Panvel | C34: =A34&" - "&B34 -> DIME - DIMED/Grupo Panvel | D34: DIME | E34: DIME | F34: Farmácias e Drogarias | G34: BR | H34: 3990475 | I34: DIMED S.A. DISTRIBUIDORA DE MEDICAMENTOS | J34: 92.665.611/0001-77 | K34: Sim | L34: Sim | M34: Sim | N34: S
A35: DMIL | B35: d1000 | C35: =A35&" - "&B35 -> DMIL - d1000 | D35: DMIL | E35: PROF | F35: Farmácias e Drogarias | G35: BR | H35: 1483148 | I35: d1000 varejo farma S.A. | J35: 12.108.897/0001-50 | K35: Sim | L35: Sim | M35: Sim | N35: S
... A37: DROG | B37: Drogal | C37: =A37&" - "&B37 -> DROG - Drogal | D37: DROG | E37: DROG | F37: Farmácias e Drogarias | G37: BR | H37: 1627000 | I37: Drogal Farmacêutica Ltda. | J37: 54.375.647/0001-27 | K37: Sim | L37: NÃO | M37: Sim | N37: NSA
A38: EBSE | B38: EBSERH | C38: =A38&" - "&B38 -> EBSE - EBSERH | D38: EBSE | E38: EBSE | F38: Redes Hospitalares | G38: BR | H38: =94766+9066058 -> 9160824 | I38: EMPRESA BRASILEIRA DE SERVIÇOS HOSPITALARES | J38: 15.126.437/0001-43 | K38: Sim | L38: Sim | M38: Sim | N38: S
A39: EINS | B39: Hospital Albert Einstein | C39: =A39&" - "&B39 -> EINS - Hospital Albert Einstein | D39: EINS | E39: EINS | F39: Redes Hospitalares | G39: BR | H39: 4911496 | I39: Sociedade Beneficente Israelita Brasileira Hospital Albert Einstein | J39: 60.765.823/0001-30 | K39: Sim | L39: Sim | M39: Sim | N39: S
A40: ELFA | B40: Elfa Medicamentos | C40: =A40&" - "&B40 -> ELFA - Elfa Medicamentos | D40: ELFA | E40: ELFA | F40: Distribuição | G40: BR | H40: 6174619 | I40: Elfa Medicamentos S.A | J40: 09.053.134/0001-45 | K40: Sim | L40: Sim | M40: Sim | N40: S
A41: EMSA | B41: EMS | C41: =A41&" - "&B41 -> EMSA - EMS | D41: EMSA | E41: EMSA | F41: Ind. Farmacêutica | G41: BR | H41: 5706375 | I41: EMS S.A. | J41: 57.507.378/0003-65 | K41: Sim | L41: Sim | M41: Sim | N41: N
A42: EURO | B42: Eurofarma | C42: =A42&" - "&B42 -> EURO - Eurofarma | D42: EURO | E42: EURO | F42: Ind. Farmacêutica | G42: BR | H42: 8006280 | I42: Eurofarma Laboratórios S.A. | J42: 61.190.096/0001-92 | K42: Sim | L42: Sim | M42: Sim | N42: S
A43: FABC | B43: Fundação do ABC | C43: =A43&" - "&B43 -> FABC - Fundação do ABC | D43: FABC | E43: FABC | F43: Gestão como OS | G43: BR | H43: 3352368 | I43: Fundação do ABC | J43: 57.571.275/0001-00 | K43: Sim | L43: Sim | M43: Sim | N43: S
A44: FASS | B44: Farmácias Associadas | C44: =A44&" - "&B44 -> FASS - Farmácias Associadas | D44: FASS | E44: FASS | F44: Farmácias e Drogarias | G44: BR | H44: 1500000 | I44: Associação dos Proprietários e Oficiais de Farmácia do Estado do Rio Grande do Sul - ASP | J44: 87.132.809/0001-55 | K44: Sim | L44: NÃO | M44: Sim | N44: NSA
A45: FFME | B45: FFM USP | C45: =A45&" - "&B45 -> FFME - FFM USP | D45: FFME | E45: =D45 -> FFME | F45: Redes Hospitalares | G45: BR | H45: 1583100 | I45: Fundação Faculdade de Medicina | J45: 56.577.059/0001-00 | K45: Sim | L45: Sim | M45: Sim | N45: S
...

Sheet db_inv
A1: Inventário de Publicações do Banco de Dados | F1: Empresas selecionadas | U1: Empresas selecionadas
A3: Índice | B3: 4 | C3: 2 | D3: 11 | E3: 12 | F3: =SUM(F6:F118) -> 805 | G3: =SUM(G6:G118) -> 62 | H3: =SUM(H6:H118) -> 64 | I3: =SUM(I6:I118) -> 63 | J3: =SUM(J6:J118) -> 76 | K3: =SUM(K6:K118) -> 87 | L3: =SUM(L6:L118) -> 89 | M3: =SUM(M6:M118) -> 94 | ... P3: =SUM(P6:P118) -> 88 | U3: =SUM(U6:U118) -> 345 | V3: =SUM(V6:V118) -> 24 | W3: =SUM(W6:W118) -> 25 | X3: =SUM(X6:X118) -> 24 | Y3: =SUM(Y6:Y118) -> 31 | Z3: =SUM(Z6:Z118) -> 39 | AA3: =SUM(AA6:AA118) -> 40 | AB3: =SUM(AB6:AB118) -> 42 | ... AE3: =SUM(AE6:AE118) -> 39
A5: Cod4 | B5: Grupo | C5: Nome | D5: RL >= 1,0 bi | E5: Com dados? | F5: Total de Relatórios | G5: 14 | H5: 15 | I5: 16 | J5: 17 | K5: 18 | L5: 19 | M5: 20 | N5: 21 | O5: 22 | P5: 23 | R5: Observações | T5: DVA? 1/0 | U5: Total de DVAs | V5: 14 | W5: 15 | X5: 16 | Y5: 17 | Z5: 18 | AA5: 19 | AB5: 20 | AC5: 21 | AD5: 22 | AE5: 23 | AG5: Observações
A6: ABBO | B6: =VLOOKUP($A6,db_emp!$A$6:$N$156,B$3,FALSE) -> ABBO | C6: =VLOOKUP($A6,db_emp!$A$6:$N$156,C$3,FALSE) -> Abott | D6: =VLOOKUP($A6,db_emp!$A$6:$N$156,D$3,FALSE) -> Sim | E6: =VLOOKUP($A6,db_emp!$A$6:$N$156,E$3,FALSE) -> NÃO | F6: =SUM(G6:Q6) -> 0 | G6: - | H6: - | I6: - | J6: - | K6: - | L6: - | M6: - | N6: - | O6: - | P6: - | U6: =SUM(V6:AF6) -> 0 | V6: - | W6: - | X6: - | Y6: - | Z6: - | AA6: - | AB6: - | AC6: - | AD6: - | AE6: -
A7: ACCA | B7: =VLOOKUP($A7,db_emp!$A$6:$N$156,B$3,FALSE) -> ACCA | C7: =VLOOKUP($A7,db_emp!$A$6:$N$156,C$3,FALSE) -> A.C. Camargo Cancer Center | D7: =VLOOKUP($A7,db_emp!$A$6:$N$156,D$3,FALSE) -> Sim | E7: =VLOOKUP($A7,db_emp!$A$6:$N$156,E$3,FALSE) -> Sim | F7: =SUM(G7:Q7) -> 7 | G7: 0 | H7: 0 | I7: 1 | J7: 0 | K7: 1 | L7: 1 | M7: 1 | N7: 1 | O7: 1 | P7: 1 | T7: 1 | U7: =SUM(V7:AF7) -> 9 | V7: 0 | W7: 1 | X7: 1 | Y7: 1 | Z7: 1 | AA7: 1 | AB7: 1 | AC7: 1 | AD7: 1 | AE7: 1
A8: ACHE | B8: =VLOOKUP($A8,db_emp!$A$6:$N$156,B$3,FALSE) -> ACHE | C8: =VLOOKUP($A8,db_emp!$A$6:$N$156,C$3,FALSE) -> Aché | D8: =VLOOKUP($A8,db_emp!$A$6:$N$156,D$3,FALSE) -> Sim | E8: =VLOOKUP($A8,db_emp!$A$6:$N$156,E$3,FALSE) -> Sim | F8: =SUM(G8:Q8) -> 8 | G8: 0 | H8: 0 | I8: 1 | J8: 1 | K8: 1 | L8: 1 | M8: 1 | N8: 1 | O8: 1 | P8: 1 | T8: 1 | U8: =SUM(V8:AF8) -> 10 | V8: 1 | W8: 1 | X8: 1 | Y8: 1 | Z8: 1 | AA8: 1 | AB8: 1 | AC8: 1 | AD8: 1 | AE8: 1
A9: ACSC | B9: =VLOOKUP($A9,db_emp!$A$6:$N$156,B$3,FALSE) -> ACSC | C9: =VLOOKUP($A9,db_emp!$A$6:$N$156,C$3,FALSE) -> Assoc. Congreg. Santa Catarina (Hospital Santa Catarina) | D9: =VLOOKUP($A9,db_emp!$A$6:$N$156,D$3,FALSE) -> Sim | E9: =VLOOKUP($A9,db_emp!$A$6:$N$156,E$3,FALSE) -> Sim | F9: =SUM(G9:Q9) -> 7 | G9: 0 | H9: 0 | I9: 0 | J9: 1 | K9: 1 | L9: 1 | M9: 1 | N9: 1 | O9: 1 | P9: 1 | T9: 1 | U9: =SUM(V9:AF9) -> 7 | V9: 0 | W9: 0 | X9: 0 | Y9: 1 | Z9: 1 | AA9: 1 | AB9: 1 | AC9: 1 | AD9: 1 | AE9: 1
A10: ALLI | B10: =VLOOKUP($A10,db_emp!$A$6:$N$156,B$3,FALSE) -> ALLI | C10: =VLOOKUP($A10,db_emp!$A$6:$N$156,C$3,FALSE) -> Alliança | D10: =VLOOKUP($A10,db_emp!$A$6:$N$156,D$3,FALSE) -> Sim | E10: =VLOOKUP($A10,db_emp!$A$6:$N$156,E$3,FALSE) -> Sim | F10: =SUM(G10:Q10) -> 10 | G10: 1 | H10: 1 | I10: 1 | J10: 1 | K10: 1 | L10: 1 | M10: 1 | N10: 1 | O10: 1 | P10: 1 | T10: 1 | U10: =SUM(V10:AF10) -> 10 | V10: 1 | W10: 1 | X10: 1 | Y10: 1 | Z10: 1 | AA10: 1 | AB10: 1 | AC10: 1 | AD10: 1 | AE10: 1
A11: AMIN | B11: =VLOOKUP($A11,db_emp!$A$6:$N$156,B$3,FALSE) -> AMIN | C11: =VLOOKUP($A11,db_emp!$A$6:$N$156,C$3,FALSE) -> Amil | D11: =VLOOKUP($A11,db_emp!$A$6:$N$156,D$3,FALSE) -> Sim | E11: =VLOOKUP($A11,db_emp!$A$6:$N$156,E$3,FALSE) -> Sim | F11: =SUM(G11:Q11) -> 9 | G11: 1 | H11: 1 | I11: 1 | J11: 0 | K11: 1 | L11: 1 | M11: 1 | N11: 1 | O11: 1 | P11: 1 | T11: 0 | U11: =SUM(V11:AF11) -> 0 | V11: 0 | W11: 0 | X11: 0 | Y11: 0 | Z11: 0 | AA11: 0 | AB11: 0 | AC11: 0 | AD11: 0 | AE11: 0
A12: APSE | B12: =VLOOKUP($A12,db_emp!$A$6:$N$156,B$3,FALSE) -> APSE | C12: =VLOOKUP($A12,db_emp!$A$6:$N$156,C$3,FALSE) -> Apsen | D12: =VLOOKUP($A12,db_emp!$A$6:$N$156,D$3,FALSE) -> Sim | E12: =VLOOKUP($A12,db_emp!$A$6:$N$156,E$3,FALSE) -> Sim | F12: =SUM(G12:Q12) -> 10 | G12: 1 | H12: 1 | I12: 1 | J12: 1 | K12: 1 | L12: 1 | M12: 1 | N12: 1 | O12: 1 | P12: 1 | T12: 0 | U12: =SUM(V12:AF12) -> 0 | V12: 0 | W12: 0 | X12: 0 | Y12: 0 | Z12: 0 | AA12: 0 | AB12: 0 | AC12: 0 | AD12: 0 | AE12: 0
A13: ARAU | B13: =VLOOKUP($A13,db_emp!$A$6:$N$156,B$3,FALSE) -> ARAU | C13: =VLOOKUP($A13,db_emp!$A$6:$N$156,C$3,FALSE) -> Araújo | D13: =VLOOKUP($A13,db_emp!$A$6:$N$156,D$3,FALSE) -> Sim | E13: =VLOOKUP($A13,db_emp!$A$6:$N$156,E$3,FALSE) -> Sim | F13: =SUM(G13:Q13) -> 6 | G13: 0 | H13: 1 | I13: 0 | J13: 1 | K13: 0 | L13: 0 | M13: 1 | N13: 1 | O13: 1 | P13: 1 | T13: 0 | U13: =SUM(V13:AF13) -> 0 | V13: 0 | W13: 0 | X13: 0 | Y13: 0 | Z13: 0 | AA13: 0 | AB13: 0 | AC13: 0 | AD13: 0 | AE13: 0
A14: ASSI | B14: =VLOOKUP($A14,db_emp!$A$6:$N$156,B$3,FALSE) -> ASSI | C14: =VLOOKUP($A14,db_emp!$A$6:$N$156,C$3,FALSE) -> Assim Saúde | D14: =VLOOKUP($A14,db_emp!$A$6:$N$156,D$3,FALSE) -> Sim | E14: =VLOOKUP($A14,db_emp!$A$6:$N$156,E$3,FALSE) -> Sim | F14: =SUM(G14:Q14) -> 7 | G14: 0 | H14: 0 | I14: 0 | J14: 1 | K14: 1 | L14: 1 | M14: 1 | N14: 1 | O14: 1 | P14: 1 | T14: 0 | U14: =SUM(V14:AF14) -> 0 | V14: 0 | W14: 0 | X14: 0 | Y14: 0 | Z14: 0 | AA14: 0 | AB14: 0 | AC14: 0 | AD14: 0 | AE14: 0
A15: ASZE | B15: =VLOOKUP($A15,db_emp!$A$6:$N$156,B$3,FALSE) -> ASZE | C15: =VLOOKUP($A15,db_emp!$A$6:$N$156,C$3,FALSE) -> AstraZeneca | D15: =VLOOKUP($A15,db_emp!$A$6:$N$156,D$3,FALSE) -> Sim | E15: =VLOOKUP($A15,db_emp!$A$6:$N$156,E$3,FALSE) -> Sim | F15: =SUM(G15:Q15) -> 6 | G15: 0 | H15: 0 | I15: 1 | J15: 1 | K15: 1 | L15: 1 | M15: 1 | N15: 1 | O15: 0 | P15: 0 | T15: 0 | U15: =SUM(V15:AF15) -> 0 | V15: 0 | W15: 0 | X15: 0 | Y15: 0 | Z15: 0 | AA15: 0 | AB15: 0 | AC15: 0 | AD15: 0 | AE15: 0
A16: ATHE | B16: =VLOOKUP($A16,db_emp!$A$6:$N$156,B$3,FALSE) -> ATHE | C16: =VLOOKUP($A16,db_emp!$A$6:$N$156,C$3,FALSE) -> Athena Saúde | D16: =VLOOKUP($A16,db_emp!$A$6:$N$156,D$3,FALSE) -> Sim | E16: =VLOOKUP($A16,db_emp!$A$6:$N$156,E$3,FALSE) -> Sim | F16: =SUM(G16:Q16) -> 4 | G16: 0 | H16: 0 | I16: 0 | J16: 0 | K16: 0 | L16: 0 | M16: 1 | N16: 1 | O16: 1 | P16: 1 | T16: 1 | U16: =SUM(V16:AF16) -> 4 | V16: 0 | W16: 0 | X16: 0 | Y16: 0 | Z16: 0 | AA16: 0 | AB16: 1 | AC16: 1 | AD16: 1 | AE16: 1
A17: BAYE | B17: =VLOOKUP($A17,db_emp!$A$6:$N$156,B$3,FALSE) -> BAYE | C17: =VLOOKUP($A17,db_emp!$A$6:$N$156,C$3,FALSE) -> Bayer Pharma | D17: =VLOOKUP($A17,db_emp!$A$6:$N$156,D$3,FALSE) -> Sim | E17: =VLOOKUP($A17,db_emp!$A$6:$N$156,E$3,FALSE) -> Sim | F17: =SUM(G17:Q17) -> 10 | G17: 1 | H17: 1 | I17: 1 | J17: 1 | K17: 1 | L17: 1 | M17: 1 | N17: 1 | O17: 1 | P17: 1 | T17: 0 | U17: =SUM(V17:AF17) -> 0 | V17: 0 | W17: 0 | X17: 0 | Y17: 0 | Z17: 0 | AA17: 0 | AB17: 0 | AC17: 0 | AD17: 0 | AE17: 0
A18: BBRA | B18: =VLOOKUP($A18,db_emp!$A$6:$N$156,B$3,FALSE) -> BBRA | C18: =VLOOKUP($A18,db_emp!$A$6:$N$156,C$3,FALSE) -> B. Braun | D18: =VLOOKUP($A18,db_emp!$A$6:$N$156,D$3,FALSE) -> Sim | E18: =VLOOKUP($A18,db_emp!$A$6:$N$156,E$3,FALSE) -> NÃO | F18: =SUM(G18:Q18) -> 0 | G18: - | H18: - | I18: - | J18: - | K18: - | L18: - | M18: - | N18: - | O18: - | P18: - | U18: =SUM(V18:AF18) -> 0 | V18: - | W18: - | X18: - | Y18: - | Z18: - | AA18: - | AB18: - | AC18: - | AD18: - | AE18: -
A19: BEPO | B19: =VLOOKUP($A19,db_emp!$A$6:$N$156,B$3,FALSE) -> BEPO | C19: =VLOOKUP($A19,db_emp!$A$6:$N$156,C$3,FALSE) -> BP - Beneficência Portuguesa de São Paulo | D19: =VLOOKUP($A19,db_emp!$A$6:$N$156,D$3,FALSE) -> Sim | E19: =VLOOKUP($A19,db_emp!$A$6:$N$156,E$3,FALSE) -> Sim | F19: =SUM(G19:Q19) -> 9 | G19: 0 | H19: 1 | I19: 1 | J19: 1 | K19: 1 | L19: 1 | M19: 1 | N19: 1 | O19: 1 | P19: 1 | T19: 0 | U19: =SUM(V19:AF19) -> 0 | V19: 0 | W19: 0 | X19: 0 | Y19: 0 | Z19: 0 | AA19: 0 | AB19: 0 | AC19: 0 | AD19: 0 | AE19: 0
A20: BIOL | B20: =VLOOKUP($A20,db_emp!$A$6:$N$156,B$3,FALSE) -> BIOL | C20: =VLOOKUP($A20,db_emp!$A$6:$N$156,C$3,FALSE) -> Biolab-Sanus Farma | D20: =VLOOKUP($A20,db_emp!$A$6:$N$156,D$3,FALSE) -> Sim | E20: =VLOOKUP($A20,db_emp!$A$6:$N$156,E$3,FALSE) -> NÃO | F20: =SUM(G20:Q20) -> 0 | G20: - | H20: - | I20: - | J20: - | K20: - | L20: - | M20: - | N20: - | O20: - | P20: - | U20: =SUM(V20:AF20) -> 0 | V20: - | W20: - | X20: - | Y20: - | Z20: - | AA20: - | AB20: - | AC20: - | AD20: - | AE20: -
A21: BLAU | B21: =VLOOKUP($A21,db_emp!$A$6:$N$156,B$3,FALSE) -> BLAU | C21: =VLOOKUP($A21,db_emp!$A$6:$N$156,C$3,FALSE) -> Blau | D21: =VLOOKUP($A21,db_emp!$A$6:$N$156,D$3,FALSE) -> Sim | E21: =VLOOKUP($A21,db_emp!$A$6:$N$156,E$3,FALSE) -> Sim | F21: =SUM(G21:Q21) -> 8 | G21: 0 | H21: 0 | I21: 1 | J21: 1 | K21: 1 | L21: 1 | M21: 1 | N21: 1 | O21: 1 | P21: 1 | T21: 1 | U21: =SUM(V21:AF21) -> 10 | V21: 1 | W21: 1 | X21: 1 | Y21: 1 | Z21: 1 | AA21: 1 | AB21: 1 | AC21: 1 | AD21: 1 | AE21: 1
A22: BOEH | B22: =VLOOKUP($A22,db_emp!$A$6:$N$156,B$3,FALSE) -> BOEH | C22: =VLOOKUP($A22,db_emp!$A$6:$N$156,C$3,FALSE) -> Boehringer Ingelhein | D22: =VLOOKUP($A22,db_emp!$A$6:$N$156,D$3,FALSE) -> Sim | E22: =VLOOKUP($A22,db_emp!$A$6:$N$156,E$3,FALSE) -> NÃO | F22: =SUM(G22:Q22) -> 0 | G22: - | H22: - | I22: - | J22: - | K22: - | L22: - | M22: - | N22: - | O22: - | P22: - | U22: =SUM(V22:AF22) -> 0 | V22: - | W22: - | X22: - | Y22: - | Z22: - | AA22: - | AB22: - | AC22: - | AD22: - | AE22: -
A23: BUTA | B23: =VLOOKUP($A23,db_emp!$A$6:$N$156,B$3,FALSE) -> BUTA | C23: =VLOOKUP($A23,db_emp!$A$6:$N$156,C$3,FALSE) -> Fundação Butantan | D23: =VLOOKUP($A23,db_emp!$A$6:$N$156,D$3,FALSE) -> Sim | E23: =VLOOKUP($A23,db_emp!$A$6:$N$156,E$3,FALSE) -> Sim | F23: =SUM(G23:Q23) -> 10 | G23: 1 | H23: 1 | I23: 1 | J23: 1 | K23: 1 | L23: 1 | M23: 1 | N23: 1 | O23: 1 | P23: 1 | T23: 0 | U23: =SUM(V23:AF23) -> 0 | V23: 0 | W23: 0 | X23: 0 | Y23: 0 | Z23: 0 | AA23: 0 | AB23: 0 | AC23: 0 | AD23: 0 | AE23: 0
A24: BRIS | B24: =VLOOKUP($A24,db_emp!$A$6:$N$156,B$3,FALSE) -> BRIS | C24: =VLOOKUP($A24,db_emp!$A$6:$N$156,C$3,FALSE) -> Bristol-Myers Squibb | D24: =VLOOKUP($A24,db_emp!$A$6:$N$156,D$3,FALSE) -> Sim | E24: =VLOOKUP($A24,db_emp!$A$6:$N$156,E$3,FALSE) -> Sim | F24: =SUM(G24:Q24) -> 8 | G24: 1 | H24: 1 | I24: 1 | J24: 1 | K24: 1 | L24: 1 | M24: 1 | N24: 0 | O24: 0 | P24: 1 | T24: 0 | U24: =SUM(V24:AF24) -> 0 | V24: 0 | W24: 0 | X24: 0 | Y24: 0 | Z24: 0 | AA24: 0 | AB24: 0 | AC24: 0 | AD24: 0 | AE24: 0
A25: EBSE | B25: =VLOOKUP($A25,db_emp!$A$6:$N$156,B$3,FALSE) -> EBSE | C25: =VLOOKUP($A25,db_emp!$A$6:$N$156,C$3,FALSE) -> EBSERH | D25: =VLOOKUP($A25,db_emp!$A$6:$N$156,D$3,FALSE) -> Sim | E25: =VLOOKUP($A25,db_emp!$A$6:$N$156,E$3,FALSE) -> Sim | F25: =SUM(G25:Q25) -> 10 | G25: 1 | H25: 1 | I25: 1 | J25: 1 | K25: 1 | L25: 1 | M25: 1 | N25: 1 | O25: 1 | P25: 1 | T25: 1 | U25: =SUM(V25:AF25) -> 10 | V25: 1 | W25: 1 | X25: 1 | Y25: 1 | Z25: 1 | AA25: 1 | AB25: 1 | AC25: 1 | AD25: 1 | AE25: 1
A26: GHCO | B26: =VLOOKUP($A26,db_emp!$A$6:$N$156,B$3,FALSE) -> GHCO | C26: =VLOOKUP($A26,db_emp!$A$6:$N$156,C$3,FALSE) -> GHC (Grupo Hospitalar Conceição) | D26: =VLOOKUP($A26,db_emp!$A$6:$N$156,D$3,FALSE) -> Sim | E26: =VLOOKUP($A26,db_emp!$A$6:$N$156,E$3,FALSE) -> Sim | F26: =SUM(G26:Q26) -> 9 | G26: 1 | H26: 1 | I26: 0 | J26: 1 | K26: 1 | L26: 1 | M26: 1 | N26: 1 | O26: 1 | P26: 1 | T26: 1 | U26: =SUM(V26:AF26) -> 8 | V26: 1 | W26: 1 | X26: 0 | Y26: 1 | Z26: 1 | AA26: 1 | AB26: 1 | AC26: 0 | AD26: 1 | AE26: 1
A27: BRSA | B27: =VLOOKUP($A27,db_emp!$A$6:$N$156,B$3,FALSE) -> BRSA | C27: =VLOOKUP($A27,db_emp!$A$6:$N$156,C$3,FALSE) -> Bradesco Saúde | D27: =VLOOKUP($A27,db_emp!$A$6:$N$156,D$3,FALSE) -> Sim | E27: =VLOOKUP($A27,db_emp!$A$6:$N$156,E$3,FALSE) -> Sim | F27: =SUM(G27:Q27) -> 10 | G27: 1 | H27: 1 | I27: 1 | J27: 1 | K27: 1 | L27: 1 | M27: 1 | N27: 1 | O27: 1 | P27: 1 | T27: 0 | U27: =SUM(V27:AF27) -> 0 | V27: 0 | W27: 0 | X27: 0 | Y27: 0 | Z27: 0 | AA27: 0 | AB27: 0 | AC27: 0 | AD27: 0 | AE27: 0
A28: ODON | B28: =VLOOKUP($A28,db_emp!$A$6:$N$156,B$3,FALSE) -> ODON | C28: =VLOOKUP($A28,db_emp!$A$6:$N$156,C$3,FALSE) -> Odontoprev | D28: =VLOOKUP($A28,db_emp!$A$6:$N$156,D$3,FALSE) -> Sim | E28: =VLOOKUP($A28,db_emp!$A$6:$N$156,E$3,FALSE) -> Sim | F28: =SUM(G28:Q28) -> 10 | G28: 1 | H28: 1 | I28: 1 | J28: 1 | K28: 1 | L28: 1 | M28: 1 | N28: 1 | O28: 1 | P28: 1 | T28: 1 | U28: =SUM(V28:AF28) -> 10 | V28: 1 | W28: 1 | X28: 1 | Y28: 1 | Z28: 1 | AA28: 1 | AB28: 1 | AC28: 1 | AD28: 1 | AE28: 1
A29: CARE | B29: =VLOOKUP($A29,db_emp!$A$6:$N$156,B$3,FALSE) -> CARE | C29: =VLOOKUP($A29,db_emp!$A$6:$N$156,C$3,FALSE) -> Care Plus | D29: =VLOOKUP($A29,db_emp!$A$6:$N$156,D$3,FALSE) -> Sim | E29: =VLOOKUP($A29,db_emp!$A$6:$N$156,E$3,FALSE) -> Sim | F29: =SUM(G29:Q29) -> 10 | G29: 1 | H29: 1 | I29: 1 | J29: 1 | K29: 1 | L29: 1 | M29: 1 | N29: 1 | O29: 1 | P29: 1 | T29: 0 | U29: =SUM(V29:AF29) -> 0 | V29: 0 | W29: 0 | X29: 0 | Y29: 0 | Z29: 0 | AA29: 0 | AB29: 0 | AC29: 0 | AD29: 0 | AE29: 0
A30: CASS | B30: =VLOOKUP($A30,db_emp!$A$6:$N$156,B$3,FALSE) -> CASS | C30: =VLOOKUP($A30,db_emp!$A$6:$N$156,C$3,FALSE) -> CASSI | D30: =VLOOKUP($A30,db_emp!$A$6:$N$156,D$3,FALSE) -> Sim | E30: =VLOOKUP($A30,db_emp!$A$6:$N$156,E$3,FALSE) -> Sim | F30: =SUM(G30:Q30) -> 10 | G30: 1 | H30: 1 | I30: 1 | J30: 1 | K30: 1 | L30: 1 | M30: 1 | N30: 1 | O30: 1 | P30: 1 | T30: 1 | U30: =SUM(V30:AF30) -> 10 | V30: 1 | W30: 1 | X30: 1 | Y30: 1 | Z30: 1 | AA30: 1 | AB30: 1 | AC30: 1 | AD30: 1 | AE30: 1
A31: CEJA | B31: =VLOOKUP($A31,db_emp!$A$6:$N$156,B$3,FALSE) -> CEJA | C31: =VLOOKUP($A31,db_emp!$A$6:$N$156,C$3,FALSE) -> CEJAM | D31: =VLOOKUP($A31,db_emp!$A$6:$N$156,D$3,FALSE) -> Sim | E31: =VLOOKUP($A31,db_emp!$A$6:$N$156,E$3,FALSE) -> Sim | F31: =SUM(G31:Q31) -> 10 | G31: 1 | H31: 1 | I31: 1 | J31: 1 | K31: 1 | L31: 1 | M31: 1 | N31: 1 | O31: 1 | P31: 1 | T31: 0 | U31: =SUM(V31:AF31) -> 0 | V31: 0 | W31: 0 | X31: 0 | Y31: 0 | Z31: 0 | AA31: 0 | AB31: 0 | AC31: 0 | AD31: 0 | AE31: 0
A32: CIME | B32: =VLOOKUP($A32,db_emp!$A$6:$N$156,B$3,FALSE) -> CIME | C32: =VLOOKUP($A32,db_emp!$A$6:$N$156,C$3,FALSE) -> Grupo Cimed | D32: =VLOOKUP($A32,db_emp!$A$6:$N$156,D$3,FALSE) -> Sim | E32: =VLOOKUP($A32,db_emp!$A$6:$N$156,E$3,FALSE) -> Sim | F32: =SUM(G32:Q32) -> 6 | G32: 0 | H32: 0 | I32: 0 | J32: 0 | K32: 1 | L32: 1 | M32: 1 | N32: 1 | O32: 1 | P32: 1 | T32: 0 | U32: =SUM(V32:AF32) -> 0 | V32: 0 | W32: 0 | X32: 0 | Y32: 0 | Z32: 0 | AA32: 0 | AB32: 0 | AC32: 0 | AD32: 0 | AE32: 0
A33: CLAM | B33: =VLOOKUP($A33,db_emp!$A$6:$N$156,B$3,FALSE) -> CLAM | C33: =VLOOKUP($A33,db_emp!$A$6:$N$156,C$3,FALSE) -> Clamed | D33: =VLOOKUP($A33,db_emp!$A$6:$N$156,D$3,FALSE) -> Sim | E33: =VLOOKUP($A33,db_emp!$A$6:$N$156,E$3,FALSE) -> Sim | F33: =SUM(G33:Q33) -> 9 | G33: 1 | H33: 1 | I33: 1 | J33: 1 | K33: 1 | L33: 1 | M33: 1 | N33: 1 | O33: 1 | P33: 0 | T33: 0 | U33: =SUM(V33:AF33) -> 0 | V33: 0 | W33: 0 | X33: 0 | Y33: 0 | Z33: 0 | AA33: 0 | AB33: 0 | AC33: 0 | AD33: 0 | AE33: 0
A34: COND | B34: =VLOOKUP($A34,db_emp!$A$6:$N$156,B$3,FALSE) -> COND | C34: =VLOOKUP($A34,db_emp!$A$6:$N$156,C$3,FALSE) -> Farma Conde | D34: =VLOOKUP($A34,db_emp!$A$6:$N$156,D$3,FALSE) -> Sim | E34: =VLOOKUP($A34,db_emp!$A$6:$N$156,E$3,FALSE) -> NÃO | F34: =SUM(G34:Q34) -> 0 | G34: - | H34: - | I34: - | J34: - | K34: - | L34: - | M34: - | N34: - | O34: - | P34: - | U34: =SUM(V34:AF34) -> 0 | V34: - | W34: - | X34: - | Y34: - | Z34: - | AA34: - | AB34: - | AC34: - | AD34: - | AE34: -
A35: DASA | B35: =VLOOKUP($A35,db_emp!$A$6:$N$156,B$3,FALSE) -> DASA | C35: =VLOOKUP($A35,db_emp!$A$6:$N$156,C$3,FALSE) -> DASA | D35: =VLOOKUP($A35,db_emp!$A$6:$N$156,D$3,FALSE) -> Sim | E35: =VLOOKUP($A35,db_emp!$A$6:$N$156,E$3,FALSE) -> Sim | F35: =SUM(G35:Q35) -> 10 | G35: 1 | H35: 1 | I35: 1 | J35: 1 | K35: 1 | L35: 1 | M35: 1 | N35: 1 | O35: 1 | P35: 1 | T35: 1 | U35: =SUM(V35:AF35) -> 10 | V35: 1 | W35: 1 | X35: 1 | Y35: 1 | Z35: 1 | AA35: 1 | AB35: 1 | AC35: 1 | AD35: 1 | AE35: 1
A36: IMPA | B36: =VLOOKUP($A36,db_emp!$A$6:$N$156,B$3,FALSE) -> IMPA | C36: =VLOOKUP($A36,db_emp!$A$6:$N$156,C$3,FALSE) -> Rede Ímpar | D36: =VLOOKUP($A36,db_emp!$A$6:$N$156,D$3,FALSE) -> Sim | E36: =VLOOKUP($A36,db_emp!$A$6:$N$156,E$3,FALSE) -> Sim | F36: =SUM(G36:Q36) -> 7 | G36: 0 | H36: 1 | I36: 1 | J36: 1 | K36: 1 | L36: 1 | M36: 1 | N36: 1 | O36: 0 | P36: 0 | T36: 0 | U36: =SUM(V36:AF36) -> 0 | V36: 0 | W36: 0 | X36: 0 | Y36: 0 | Z36: 0 | AA36: 0 | AB36: 0 | AC36: 0 | AD36: 0 | AE36: 0
A37: DIME | B37: =VLOOKUP($A37,db_emp!$A$6:$N$156,B$3,FALSE) -> DIME | C37: =VLOOKUP($A37,db_emp!$A$6:$N$156,C$3,FALSE) -> DIMED/Grupo Panvel | D37: =VLOOKUP($A37,db_emp!$A$6:$N$156,D$3,FALSE) -> Sim | E37: =VLOOKUP($A37,db_emp!$A$6:$N$156,E$3,FALSE) -> Sim | F37: =SUM(G37:Q37) -> 10 | G37: 1 | H37: 1 | I37: 1 | J37: 1 | K37: 1 | L37: 1 | M37: 1 | N37: 1 | O37: 1 | P37: 1 | T37: 1 | U37: =SUM(V37:AF37) -> 10 | V37: 1 | W37: 1 | X37: 1 | Y37: 1 | Z37: 1 | AA37: 1 | AB37: 1 | AC37: 1 | AD37: 1 | AE37: 1
A38: DPSP | B38: =VLOOKUP($A38,db_emp!$A$6:$N$156,B$3,FALSE) -> DPSP | C38: =VLOOKUP($A38,db_emp!$A$6:$N$156,C$3,FALSE) -> Grupo DPSP | D38: =VLOOKUP($A38,db_emp!$A$6:$N$156,D$3,FALSE) -> Sim | E38: =VLOOKUP($A38,db_emp!$A$6:$N$156,E$3,FALSE) -> Sim | F38: =SUM(G38:Q38) -> 10 | G38: 1 | H38: 1 | I38: 1 | J38: 1 | K38: 1 | L38: 1 | M38: 1 | N38: 1 | O38: 1 | P38: 1 | T38: 1 | U38: =SUM(V38:AF38) -> 3 | V38: 0 | W38: 0 | X38: 0 | Y38: 0 | Z38: 0 | AA38: 0 | AB38: 0 | AC38: 1 | AD38: 1 | AE38: 1
A39: DROG | B39: =VLOOKUP($A39,db_emp!$A$6:$N$156,B$3,FALSE) -> DROG | C39: =VLOOKUP($A39,db_emp!$A$6:$N$156,C$3,FALSE) -> Drogal | D39: =VLOOKUP($A39,db_emp!$A$6:$N$156,D$3,FALSE) -> Sim | E39: =VLOOKUP($A39,db_emp!$A$6:$N$156,E$3,FALSE) -> NÃO | F39: =SUM(G39:Q39) -> 0 | G39: - | H39: - | I39: - | J39: - | K39: - | L39: - | M39: - | N39: - | O39: - | P39: - | U39: =SUM(V39:AF39) -> 0 | V39: - | W39: - | X39: - | Y39: - | Z39: - | AA39: - | AB39: - | AC39: - | AD39: - | AE39: -
A40: EINS | B40: =VLOOKUP($A40,db_emp!$A$6:$N$156,B$3,FALSE) -> EINS | C40: =VLOOKUP($A40,db_emp!$A$6:$N$156,C$3,FALSE) -> Hospital Albert Einstein | D40: =VLOOKUP($A40,db_emp!$A$6:$N$156,D$3,FALSE) -> Sim | E40: =VLOOKUP($A40,db_emp!$A$6:$N$156,E$3,FALSE) -> Sim | F40: =SUM(G40:Q40) -> 10 | G40: 1 | H40: 1 | I40: 1 | J40: 1 | K40: 1 | L40: 1 | M40: 1 | N40: 1 | O40: 1 | P40: 1 | T40: 0 | U40: =SUM(V40:AF40) -> 0 | V40: 0 | W40: 0 | X40: 0 | Y40: 0 | Z40: 0 | AA40: 0 | AB40: 0 | AC40: 0 | AD40: 0 | AE40: 0
A41: ELFA | B41: =VLOOKUP($A41,db_emp!$A$6:$N$156,B$3,FALSE) -> ELFA | C41: =VLOOKUP($A41,db_emp!$A$6:$N$156,C$3,FALSE) -> Elfa Medicamentos | D41: =VLOOKUP($A41,db_emp!$A$6:$N$156,D$3,FALSE) -> Sim | E41: =VLOOKUP($A41,db_emp!$A$6:$N$156,E$3,FALSE) -> Sim | F41: =SUM(G41:Q41) -> 7 | G41: 0 | H41: 0 | I41: 0 | J41: 1 | K41: 1 | L41: 1 | M41: 1 | N41: 1 | O41: 1 | P41: 1 | T41: 1 | U41: =SUM(V41:AF41) -> 8 | V41: 0 | W41: 0 | X41: 1 | Y41: 1 | Z41: 1 | AA41: 1 | AB41: 1 | AC41: 1 | AD41: 1 | AE41: 1
A42: EMSA | B42: =VLOOKUP($A42,db_emp!$A$6:$N$156,B$3,FALSE) -> EMSA | C42: =VLOOKUP($A42,db_emp!$A$6:$N$156,C$3,FALSE) -> EMS | D42: =VLOOKUP($A42,db_emp!$A$6:$N$156,D$3,FALSE) -> Sim | E42: =VLOOKUP($A42,db_emp!$A$6:$N$156,E$3,FALSE) -> Sim | F42: =SUM(G42:Q42) -> 6 | G42: 0 | H42: 0 | I42: 0 | J42: 0 | K42: 1 | L42: 1 | M42: 1 | N42: 1 | O42: 1 | P42: 1 | T42: 0 | U42: =SUM(V42:AF42) -> 0 | V42: 0 | W42: 0 | X42: 0 | Y42: 0 | Z42: 0 | AA42: 0 | AB42: 0 | AC42: 0 | AD42: 0 | AE42: 0 | AG42: AMC adição 2023 jan/24
...

Sheet AT
A1: ATIVO TOTAL | H1: Soma | I1: =SUM(I7:I203) -> 1.4595584e+08 | J1: =SUM(J7:J203) -> 1.7188877e+08 | K1: =SUM(K7:K203) -> 1.840563e+08 | L1: =SUM(L7:L203) -> 2.1993016e+08 | M1: =SUM(M7:M203) -> 2.4896697e+08 | N1: =SUM(N7:N203) -> 3.1319561e+08 | O1: =SUM(O7:O203) -> 3.8293203e+08 | P1: =SUM(P7:P203) -> 4.6145441e+08 | ... R1: =SUM(R7:R203) -> 5.616723e+08
H2: N. Empr. | I2: =COUNT(I7:I203) -> 66 | J2: =COUNT(J7:J203) -> 67 | K2: =COUNT(K7:K203) -> 70 | L2: =COUNT(L7:L203) -> 87 | M2: =COUNT(M7:M203) -> 88 | N2: =COUNT(N7:N203) -> 91 | O2: =COUNT(O7:O203) -> 93 | P2: =COUNT(P7:P203) -> 92 | ... R2: =COUNT(R7:R203) -> 86
A3: R$ Correntes | H3: Média | I3: =I1/I2 -> 2211452.2 | J3: =J1/J2 -> 2565504.1 | K3: =K1/K2 -> 2629375.7 | L3: =L1/L2 -> 2527932.8 | M3: =M1/M2 -> 2829170.2 | N3: =N1/N2 -> 3441709.9 | O3: =O1/O2 -> 4117548.7 | P3: =P1/P2 -> 5015808.8 | ... R3: =R1/R2 -> 6531073.2
A4: Milhares | H4: Cont.vazios | I4: =COUNTBLANK(I7:I104) -> 0 | J4: =COUNTBLANK(J7:J104) -> 0 | K4: =COUNTBLANK(K7:K104) -> 0 | L4: =COUNTBLANK(L7:L104) -> 0 | M4: =COUNTBLANK(M7:M104) -> 0 | N4: =COUNTBLANK(N7:N104) -> 0 | O4: =COUNTBLANK(O7:O104) -> 0 | P4: =COUNTBLANK(P7:P104) -> 0 | ... R4: =COUNTBLANK(R7:R104) -> 0
D5: 6 | F5: 5 | G5: 14 | H5: =G5+1 -> 15
A6: Cod4 | B6: Tipo | C6: Grupo Empresarial | D6: Subsetor de origem | E6: Cod4 | F6: Grupo | I6: 2014 | J6: 2015 | K6: 2016 | L6: 2017 | M6: 2018 | N6: 2019 | O6: 2020 | P6: 2021 | Q6: 2022 | R6: 2023
A7: ACCA | B7: 1-Dados | C7: =VLOOKUP($A7,db_emp!$A$7:$N$156,2,FALSE) -> A.C. Camargo Cancer Center | D7: =VLOOKUP($A7,db_emp!$A$7:$N$157,D$5,FALSE) -> Redes Hospitalares | E7: =A7 -> ACCA | F7: =VLOOKUP($A7,db_emp!$A$7:$N$156,F$5,FALSE) -> ACCA | I7: - | J7: 1577589 | K7: 1994174 | L7: 2344802 | M7: 2611886 | N7: 2900394 | O7: 2834349 | P7: 2904200 | Q7: 3185468 | R7: 3506428
A8: ACHE | B8: 1-Dados | C8: =VLOOKUP($A8,db_emp!$A$7:$N$156,2,FALSE) -> Aché | D8: =VLOOKUP($A8,db_emp!$A$7:$N$157,D$5,FALSE) -> Ind. Farmacêutica | E8: =A8 -> ACHE | F8: =VLOOKUP($A8,db_emp!$A$7:$N$156,F$5,FALSE) -> ACHE | I8: 2077710 | J8: 2461306 | K8: 2448046 | L8: 2728542 | M8: 3009522 | N8: 3518739 | O8: 3973173 | P8: 4038832 | Q8: 5251649 | R8: 5738919
A9: ACSC | B9: 1-Dados | C9: =VLOOKUP($A9,db_emp!$A$7:$N$156,2,FALSE) -> Assoc. Congreg. Santa Catarina (Hospital Santa Catarina) | D9: =VLOOKUP($A9,db_emp!$A$7:$N$157,D$5,FALSE) -> Redes Hospitalares | E9: =A9 -> ACSC | F9: =VLOOKUP($A9,db_emp!$A$7:$N$156,F$5,FALSE) -> ACSC | I9: - | J9: - | K9: - | L9: 1625029 | M9: 1611727 | N9: 1832252 | O9: 1653864 | P9: 1700748 | Q9: 1824289 | R9: 1974582
A10: ALLI | B10: 1-Dados | C10: =VLOOKUP($A10,db_emp!$A$7:$N$156,2,FALSE) -> Alliança | D10: =VLOOKUP($A10,db_emp!$A$7:$N$157,D$5,FALSE) -> Diagnóstico e Terapia | E10: =A10 -> ALLI | F10: =VLOOKUP($A10,db_emp!$A$7:$N$156,F$5,FALSE) -> ALLI | I10: 1463827 | J10: 1536352 | K10: 2166312 | L10: 2284985 | M10: 2209426 | N10: 2401121 | O10: 2540602 | P10: 2542229 | Q10: 2615454 | R10: 2669811
A11: AMIN | B11: 1-Dados | C11: =VLOOKUP($A11,db_emp!$A$7:$N$156,2,FALSE) -> Amil | D11: =VLOOKUP($A11,db_emp!$A$7:$N$157,D$5,FALSE) -> Planos e Seguros | E11: =A11 -> AMIN | F11: =VLOOKUP($A11,db_emp!$A$7:$N$156,F$5,FALSE) -> AMIN | I11: 10054634 | J11: 13309368 | K11: 16877118 | L11: 17639171 | M11: 18875222 | N11: 19897676 | O11: 20978804 | P11: 24076544 | Q11: 25803997 | R11: 23664140
A12: APSE | B12: 1-Dados | C12: =VLOOKUP($A12,db_emp!$A$7:$N$156,2,FALSE) -> Apsen | D12: =VLOOKUP($A12,db_emp!$A$7:$N$157,D$5,FALSE) -> Ind. Farmacêutica | E12: =A12 -> APSE | F12: =VLOOKUP($A12,db_emp!$A$7:$N$156,F$5,FALSE) -> APSE | I12: 377164 | J12: 385002 | K12: 456259 | L12: 534886 | M12: 642056 | N12: 771028 | O12: 905288 | P12: 1183431 | Q12: 1351487 | R12: 1402847
A13: ARAU | B13: 1-Dados | C13: =VLOOKUP($A13,db_emp!$A$7:$N$156,2,FALSE) -> Araújo | D13: =VLOOKUP($A13,db_emp!$A$7:$N$157,D$5,FALSE) -> Farmácias e Drogarias | E13: =A13 -> ARAU | F13: =VLOOKUP($A13,db_emp!$A$7:$N$156,F$5,FALSE) -> ARAU | I13: 518794 | J13: 649644 | K13: 722498 | L13: 780414 | M13: 834770 | N13: 910616 | O13: 1051554 | P13: 1195161 | Q13: 1440511 | R13: 1619533
A14: ASSI | B14: 1-Dados | C14: =VLOOKUP($A14,db_emp!$A$7:$N$156,2,FALSE) -> Assim Saúde | D14: =VLOOKUP($A14,db_emp!$A$7:$N$157,D$5,FALSE) -> Planos e Seguros | E14: =A14 -> ASSI | F14: =VLOOKUP($A14,db_emp!$A$7:$N$156,F$5,FALSE) -> ASSI | I14: - | J14: - | K14: 344274 | L14: 456441 | M14: 584538 | N14: 677394 | O14: 841542 | P14: 892225 | Q14: 891593 | R14: 861524
A15: ASZE | B15: 1-Dados | C15: =VLOOKUP($A15,db_emp!$A$7:$N$156,2,FALSE) -> AstraZeneca | D15: =VLOOKUP($A15,db_emp!$A$7:$N$157,D$5,FALSE) -> Ind. Farmacêutica | E15: =A15 -> ASZE | F15: =VLOOKUP($A15,db_emp!$A$7:$N$156,F$5,FALSE) -> ASZE | I15: - | J15: 716470 | K15: 708365 | L15: 810164 | M15: 715194 | N15: 920532 | O15: 1105985 | P15: 1240912 | Q15: - | R15: -
A16: ATHE | B16: 1-Dados | C16: =VLOOKUP($A16,db_emp!$A$7:$N$156,2,FALSE) -> Athena Saúde | D16: =VLOOKUP($A16,db_emp!$A$7:$N$157,D$5,FALSE) -> Planos e Seguros | E16: =A16 -> ATHE | F16: =VLOOKUP($A16,db_emp!$A$7:$N$156,F$5,FALSE) -> ATHE | I16: - | J16: - | K16: - | L16: - | M16: 660503 | N16: 1448761 | O16: 2887004 | P16: 4299333 | Q16: 4082531 | R16: 4238980
A17: BAYE | B17: 1-Dados | C17: =VLOOKUP($A17,db_emp!$A$7:$N$156,2,FALSE) -> Bayer Pharma | D17: =VLOOKUP($A17,db_emp!$A$7:$N$157,D$5,FALSE) -> Ind. Farmacêutica | E17: =A17 -> BAYE | F17: =VLOOKUP($A17,db_emp!$A$7:$N$156,F$5,FALSE) -> BAYE | I17: 8367206 | J17: 12087975 | K17: 12011778 | L17: 10830814 | M17: 9732873 | N17: 9723964 | O17: 9991041 | P17: 11593250 | Q17: 11339181 | R17: 11948507
A18: BEPO | B18: 1-Dados | C18: =VLOOKUP($A18,db_emp!$A$7:$N$156,2,FALSE) -> BP - Beneficência Portuguesa de São Paulo | D18: =VLOOKUP($A18,db_emp!$A$7:$N$157,D$5,FALSE) -> Redes Hospitalares | E18: =A18 -> BEPO | F18: =VLOOKUP($A18,db_emp!$A$7:$N$156,F$5,FALSE) -> BEPO | I18: 1357831 | J18: 1423261 | K18: 1600676 | L18: 1769541 | M18: 1784794 | N18: 1926498 | O18: 1999846 | P18: 2064215 | Q18: 2122546 | R18: 2404592
A19: BLAU | B19: 1-Dados | C19: =VLOOKUP($A19,db_emp!$A$7:$N$156,2,FALSE) -> Blau | D19: =VLOOKUP($A19,db_emp!$A$7:$N$157,D$5,FALSE) -> Ind. Farmacêutica | E19: =A19 -> BLAU | F19: =VLOOKUP($A19,db_emp!$A$7:$N$156,F$5,FALSE) -> BLAU | I19: 256094 | J19: 298105 | K19: 310972 | L19: 364885 | M19: 586333 | N19: 733704 | O19: 1268123 | P19: 2320595 | Q19: 2499048 | R19: 3053528
A20: BRIS | B20: 1-Dados | C20: =VLOOKUP($A20,db_emp!$A$7:$N$156,2,FALSE) -> Bristol-Myers Squibb | D20: =VLOOKUP($A20,db_emp!$A$7:$N$157,D$5,FALSE) -> Ind. Farmacêutica | E20: =A20 -> BRIS | F20: =VLOOKUP($A20,db_emp!$A$7:$N$156,F$5,FALSE) -> BRIS | I20: 193043 | J20: 232084 | K20: 311105 | L20: 326190 | M20: 499689 | N20: 481329 | O20: 710369 | P20: - | Q20: 1175899 | R20: 1413769
A21: BRSA | B21: 1-Dados | C21: =VLOOKUP($A21,db_emp!$A$7:$N$156,2,FALSE) -> Bradesco Saúde | D21: =VLOOKUP($A21,db_emp!$A$7:$N$157,D$5,FALSE) -> Planos e Seguros | E21: =A21 -> BRSA | F21: =VLOOKUP($A21,db_emp!$A$7:$N$156,F$5,FALSE) -> BRSA | I21: 11776518 | J21: 13638863 | K21: 15582161 | L21: 17325581 | M21: 19239870 | N21: 21663875 | O21: 25418445 | P21: 25551756 | Q21: 26044220 | R21: 28850261
A22: BUTA | B22: 1-Dados | C22: =VLOOKUP($A22,db_emp!$A$7:$N$156,2,FALSE) -> Fundação Butantan | D22: =VLOOKUP($A22,db_emp!$A$7:$N$157,D$5,FALSE) -> Ind. Farmacêutica | E22: =A22 -> BUTA | F22: =VLOOKUP($A22,db_emp!$A$7:$N$156,F$5,FALSE) -> BUTA | I22: 888511 | J22: 1071883 | K22: 1535708 | L22: 2203432 | M22: 2453575 | N22: 3177775 | O22: 3587250 | P22: 7441010 | Q22: 6069219 | R22: 6654937
A23: CARE | B23: 1-Dados | C23: =VLOOKUP($A23,db_emp!$A$7:$N$156,2,FALSE) -> Care Plus | D23: =VLOOKUP($A23,db_emp!$A$7:$N$157,D$5,FALSE) -> Planos e Seguros | E23: =A23 -> CARE | F23: =VLOOKUP($A23,db_emp!$A$7:$N$156,F$5,FALSE) -> CARE | I23: 118011 | J23: 157960 | K23: 225374 | L23: 298297 | M23: 725995 | N23: 837835 | O23: 931237 | P23: 989750 | Q23: 1245156 | R23: 1662897
A24: CASS | B24: 1-Dados | C24: =VLOOKUP($A24,db_emp!$A$7:$N$156,2,FALSE) -> CASSI | D24: =VLOOKUP($A24,db_emp!$A$7:$N$157,D$5,FALSE) -> Planos e Seguros | E24: =A24 -> CASS | F24: =VLOOKUP($A24,db_emp!$A$7:$N$156,F$5,FALSE) -> CASS | I24: 1768824 | J24: 1654597 | K24: 1638994 | L24: 1549748 | M24: 1413107 | N24: 2540984 | O24: 3640883 | P24: 4074016 | Q24: 4092367 | R24: 4153504
A25: CEJA | B25: 1-Dados | C25: =VLOOKUP($A25,db_emp!$A$7:$N$156,2,FALSE) -> CEJAM | D25: =VLOOKUP($A25,db_emp!$A$7:$N$157,D$5,FALSE) -> Gestão como OS | E25: =A25 -> CEJA | F25: =VLOOKUP($A25,db_emp!$A$7:$N$156,F$5,FALSE) -> CEJA | I25: 120032 | J25: 133673 | K25: 144364 | L25: 154251 | M25: 188615 | N25: 209290 | O25: 340256 | P25: 445428 | Q25: 523955 | R25: 580306
A26: CIME | B26: 1-Dados | C26: =VLOOKUP($A26,db_emp!$A$7:$N$156,2,FALSE) -> Grupo Cimed | D26: =VLOOKUP($A26,db_emp!$A$7:$N$157,D$5,FALSE) -> Ind. Farmacêutica | E26: =A26 -> CIME | F26: =VLOOKUP($A26,db_emp!$A$7:$N$156,F$5,FALSE) -> CIME | I26: - | J26: - | K26: - | L26: 590664 | M26: 738693 | N26: 956034 | O26: 1679745 | P26: 1799608 | Q26: 1944360 | R26: 1998012
A27: CLAM | B27: 1-Dados | C27: =VLOOKUP($A27,db_emp!$A$7:$N$156,2,FALSE) -> Clamed | D27: =VLOOKUP($A27,db_emp!$A$7:$N$157,D$5,FALSE) -> Farmácias e Drogarias | E27: =A27 -> CLAM | F27: =VLOOKUP($A27,db_emp!$A$7:$N$156,F$5,FALSE) -> CLAM | I27: 332974 | J27: 424127 | K27: 516335 | L27: 563044 | M27: 623191 | N27: 926126 | O27: 1038041 | P27: 1205716 | Q27: 1423851 | R27: -
A28: DASA | B28: 1-Dados | C28: =VLOOKUP($A28,db_emp!$A$7:$N$156,2,FALSE) -> DASA | D28: =VLOOKUP($A28,db_emp!$A$7:$N$157,D$5,FALSE) -> Diagnóstico e Terapia | E28: =A28 -> DASA | F28: =VLOOKUP($A28,db_emp!$A$7:$N$156,F$5,FALSE) -> DASA | I28: 4609536 | J28: 4681796 | K28: 5164005 | L28: 6246487 | M28: 7223593 | N28: 8839181 | O28: 13343496 | P28: 23249904 | Q28: 26844191 | R28: 26213200
A29: DIME | B29: 1-Dados | C29: =VLOOKUP($A29,db_emp!$A$7:$N$156,2,FALSE) -> DIMED/Grupo Panvel | D29: =VLOOKUP($A29,db_emp!$A$7:$N$157,D$5,FALSE) -> Farmácias e Drogarias | E29: =A29 -> DIME | F29: =VLOOKUP($A29,db_emp!$A$7:$N$156,F$5,FALSE) -> DIME | I29: 717175 | J29: 771084 | K29: 840665 | L29: 960989 | M29: 1025506 | N29: 1460285 | O29: 2184840 | P29: 2372275 | Q29: 2729336 | R29: 3072057
A30: DMIL | B30: 1-Dados | C30: =VLOOKUP($A30,db_emp!$A$7:$N$156,2,FALSE) -> d1000 | D30: =VLOOKUP($A30,db_emp!$A$7:$N$157,D$5,FALSE) -> Farmácias e Drogarias | E30: =A30 -> DMIL | F30: =VLOOKUP($A30,db_emp!$A$7:$N$156,F$5,FALSE) -> PROF | I30: - | J30: - | K30: 1097135 | L30: 1006304 | M30: 1014890 | N30: 1095643 | O30: 1454977 | P30: 1470516 | Q30: 1470715 | R30: 1548519
A31: DPSP | B31: 1-Dados | C31: =VLOOKUP($A31,db_emp!$A$7:$N$156,2,FALSE) -> Grupo DPSP | D31: =VLOOKUP($A31,db_emp!$A$7:$N$157,D$5,FALSE) -> Farmácias e Drogarias | E31: =A31 -> DPSP | F31: =VLOOKUP($A31,db_emp!$A$7:$N$156,F$5,FALSE) -> DPSP | I31: 2337513 | J31: 2937411 | K31: 3136108 | L31: 3492209 | M31: 4393793 | N31: 5702624 | O31: 6532510 | P31: 6669409 | Q31: 7705531 | R31: 7967296
A32: EBSE | B32: 1-Dados | C32: =VLOOKUP($A32,db_emp!$A$7:$N$156,2,FALSE) -> EBSERH | D32: =VLOOKUP($A32,db_emp!$A$7:$N$157,D$5,FALSE) -> Redes Hospitalares | E32: =A32 -> EBSE | F32: =VLOOKUP($A32,db_emp!$A$7:$N$156,F$5,FALSE) -> EBSE | I32: 104604 | J32: 165301 | K32: 241379 | L32: 374130 | M32: 675271 | N32: 1084175 | O32: 1695114 | P32: 2050866 | Q32: 2538695 | R32: 2654429
A33: EINS | B33: 1-Dados | C33: =VLOOKUP($A33,db_emp!$A$7:$N$156,2,FALSE) -> Hospital Albert Einstein | D33: =VLOOKUP($A33,db_emp!$A$7:$N$157,D$5,FALSE) -> Redes Hospitalares | E33: =A33 -> EINS | F33: =VLOOKUP($A33,db_emp!$A$7:$N$156,F$5,FALSE) -> EINS | I33: 2775544 | J33: 3000894 | K33: - | L33: 3550389 | M33: 4332664 | N33: 5059848 | O33: 5565977 | P33: 6638439 | Q33: 7415636 | R33: 7845809
A34: ELFA | B34: 1-Dados | C34: =VLOOKUP($A34,db_emp!$A$7:$N$156,2,FALSE) -> Elfa Medicamentos | D34: =VLOOKUP($A34,db_emp!$A$7:$N$157,D$5,FALSE) -> Distribuição | E34: =A34 -> ELFA | F34: =VLOOKUP($A34,db_emp!$A$7:$N$156,F$5,FALSE) -> ELFA | I34: - | J34: - | K34: 445509 | L34: 853374 | M34: 1010656 | N34: 1280737 | O34: 3573402 | P34: 4730141 | Q34: 6372519 | R34: 6898636
A35: EMSA | B35: 1-Dados | C35: =VLOOKUP($A35,db_emp!$A$7:$N$156,2,FALSE) -> EMS | D35: =VLOOKUP($A35,db_emp!$A$7:$N$157,D$5,FALSE) -> Ind. Farmacêutica | E35: =A35 -> EMSA | F35: =VLOOKUP($A35,db_emp!$A$7:$N$156,F$5,FALSE) -> EMSA | I35: - | J35: - | K35: - | L35: 2367080 | M35: 2904209 | N35: 3458029 | O35: 3487402 | P35: 4132110 | Q35: 4856807 | R35: 5818931
A36: EURO | B36: 1-Dados | C36: =VLOOKUP($A36,db_emp!$A$7:$N$156,2,FALSE) -> Eurofarma | D36: =VLOOKUP($A36,db_emp!$A$7:$N$157,D$5,FALSE) -> Ind. Farmacêutica | E36: =A36 -> EURO | F36: =VLOOKUP($A36,db_emp!$A$7:$N$156,F$5,FALSE) -> EURO | I36: 2143266 | J36: 2490171 | K36: - | L36: 2784610 | M36: 3520739 | N36: 4734424 | O36: 6312105 | P36: 7900277 | Q36: 10239872 | R36: 15313148
A37: FABC | B37: 1-Dados | C37: =VLOOKUP($A37,db_emp!$A$7:$N$156,2,FALSE) -> Fundação do ABC | D37: =VLOOKUP($A37,db_emp!$A$7:$N$157,D$5,FALSE) -> Gestão como OS | E37: =A37 -> FABC | F37: =VLOOKUP($A37,db_emp!$A$7:$N$156,F$5,FALSE) -> FABC | I37: 482860 | J37: 491028 | K37: 521649 | L37: 504033 | M37: 518255 | N37: 458192 | O37: 491381 | P37: 443325 | Q37: 417325 | R37: 583188
A38: FFME | B38: 1-Dados | C38: =VLOOKUP($A38,db_emp!$A$7:$N$156,2,FALSE) -> FFM USP | D38: =VLOOKUP($A38,db_emp!$A$7:$N$157,D$5,FALSE) -> Redes Hospitalares | E38: =A38 -> FFME | F38: =VLOOKUP($A38,db_emp!$A$7:$N$156,F$5,FALSE) -> FFME | I38: 520517 | J38: 528256 | K38: 637798 | L38: 642109 | M38: 689288 | N38: 756198 | O38: 964899 | P38: 1129844 | Q38: 1195865 | R38: 1214841
A39: FLEU | B39: 1-Dados | C39: =VLOOKUP($A39,db_emp!$A$7:$N$156,2,FALSE) -> Fleury | D39: =VLOOKUP($A39,db_emp!$A$7:$N$157,D$5,FALSE) -> Diagnóstico e Terapia | E39: =A39 -> FLEU | F39: =VLOOKUP($A39,db_emp!$A$7:$N$156,F$5,FALSE) -> FLEU | I39: 3077690 | J39: 3204236 | K39: 3005820 | L39: 3527332 | M39: 3910448 | N39: 5096652 | O39: 5514822 | P39: 6073770 | Q39: 7791770 | R39: 11579968
A40: GEAP | B40: 1-Dados | C40: =VLOOKUP($A40,db_emp!$A$7:$N$156,2,FALSE) -> GEAP | D40: =VLOOKUP($A40,db_emp!$A$7:$N$157,D$5,FALSE) -> Planos e Seguros | E40: =A40 -> GEAP | F40: =VLOOKUP($A40,db_emp!$A$7:$N$156,F$5,FALSE) -> GEAP | I40: 953375 | J40: 1043437 | K40: 1243656 | L40: 1679806 | M40: 1842635 | N40: 1969270 | O40: 2574881 | P40: 3176761 | Q40: 3530073 | R40: 3636273
...

Sheet PL
A1: PATR. LÍQUIDO | H1: Soma | I1: =SUM(I7:I203) -> 55571121 | J1: =SUM(J7:J203) -> 62386152 | K1: =SUM(K7:K203) -> 68045473 | L1: =SUM(L7:L203) -> 87484110 | M1: =SUM(M7:M203) -> 1.0432927e+08 | N1: =SUM(N7:N203) -> 1.2568036e+08 | O1: =SUM(O7:O203) -> 1.5417047e+08 | P1: =SUM(P7:P203) -> 1.809502e+08 | ... R1: =SUM(R7:R203) -> 2.2152527e+08
H2: N. Empr. | I2: =COUNT(I7:I203) -> 67 | J2: =COUNT(J7:J203) -> 68 | K2: =COUNT(K7:K203) -> 72 | L2: =COUNT(L7:L203) -> 87 | M2: =COUNT(M7:M203) -> 88 | N2: =COUNT(N7:N203) -> 91 | O2: =COUNT(O7:O203) -> 93 | P2: =COUNT(P7:P203) -> 92 | ... R2: =COUNT(R7:R203) -> 85
A3: R$ Correntes | H3: Média | I3: =I1/I2 -> 829419.72 | J3: =J1/J2 -> 917443.41 | K3: =K1/K2 -> 945076.01 | L3: =L1/L2 -> 1005564.5 | M3: =M1/M2 -> 1185559.9 | N3: =N1/N2 -> 1381102.9 | O3: =O1/O2 -> 1657747 | P3: =P1/P2 -> 1966850 | ... R3: =R1/R2 -> 2606179.7
A4: Milhares | H4: Cont.vazios | I4: =COUNTBLANK(I7:I104) -> 0 | J4: =COUNTBLANK(J7:J104) -> 0 | K4: =COUNTBLANK(K7:K104) -> 0 | L4: =COUNTBLANK(L7:L104) -> 0 | M4: =COUNTBLANK(M7:M104) -> 0 | N4: =COUNTBLANK(N7:N104) -> 0 | O4: =COUNTBLANK(O7:O104) -> 0 | P4: =COUNTBLANK(P7:P104) -> 0 | ... R4: =COUNTBLANK(R7:R104) -> 0
D5: 6 | F5: 5 | G5: 14 | H5: =G5+1 -> 15
A6: Cod4 | B6: Tipo | C6: Grupo Empresarial | D6: Subsetor de origem | E6: Cod4 | F6: Grupo | I6: 2014 | J6: 2015 | K6: 2016 | L6: 2017 | M6: 2018 | N6: 2019 | O6: 2020 | P6: 2021 | Q6: 2022 | R6: 2023
A7: ACCA | B7: 1-Dados | C7: =VLOOKUP($A7,db_emp!$A$7:$N$156,2,FALSE) -> A.C. Camargo Cancer Center | D7: =VLOOKUP($A7,db_emp!$A$7:$N$157,D$5,FALSE) -> Redes Hospitalares | E7: =A7 -> ACCA | F7: =VLOOKUP($A7,db_emp!$A$7:$N$156,4,FALSE) -> ACCA | I7: - | J7: 1356294 | K7: 1750170 | L7: 2073539 | M7: 2333589 | N7: 2467248 | O7: 2481610 | P7: 2527970 | Q7: 2793359 | R7: 3099948
A8: ACHE | B8: 1-Dados | C8: =VLOOKUP($A8,db_emp!$A$7:$N$156,2,FALSE) -> Aché | D8: =VLOOKUP($A8,db_emp!$A$7:$N$157,D$5,FALSE) -> Ind. Farmacêutica | E8: =A8 -> ACHE | F8: =VLOOKUP(E8,db_emp!$D$7:$E$156,2,FALSE) -> ACHE | I8: 1140856 | J8: 1354650 | K8: 1455930 | L8: 1524510 | M8: 1557584 | N8: 1697229 | O8: 1831111 | P8: 1860953 | Q8: 2325309 | R8: 2363550
A9: ACSC | B9: 1-Dados | C9: =VLOOKUP($A9,db_emp!$A$7:$N$156,2,FALSE) -> Assoc. Congreg. Santa Catarina (Hospital Santa Catarina) | D9: =VLOOKUP($A9,db_emp!$A$7:$N$157,D$5,FALSE) -> Redes Hospitalares | E9: =A9 -> ACSC | F9: =VLOOKUP(E9,db_emp!$D$7:$E$156,2,FALSE) -> ACSC | I9: - | J9: - | K9: - | L9: 1152839 | M9: 1082620 | N9: 1000089 | O9: 979462 | P9: 1064919 | Q9: 1107351 | R9: 1187992
A10: ALLI | B10: 1-Dados | C10: =VLOOKUP($A10,db_emp!$A$7:$N$156,2,FALSE) -> Alliança | D10: =VLOOKUP($A10,db_emp!$A$7:$N$157,D$5,FALSE) -> Diagnóstico e Terapia | E10: =A10 -> ALLI | F10: =VLOOKUP(E10,db_emp!$D$7:$E$156,2,FALSE) -> ALLI | I10: 743319 | J10: 733000 | K10: 1211935 | L10: 1270256 | M10: 1299712 | N10: 1320002 | O10: 1223684 | P10: 1209434 | Q10: 981917 | R10: 943992
A11: AMIN | B11: 1-Dados | C11: =VLOOKUP($A11,db_emp!$A$7:$N$156,2,FALSE) -> Amil | D11: =VLOOKUP($A11,db_emp!$A$7:$N$157,D$5,FALSE) -> Planos e Seguros | E11: =A11 -> AMIN | F11: =VLOOKUP(E11,db_emp!$D$7:$E$156,2,FALSE) -> AMIN | I11: 5938078 | J11: 6557210 | K11: 8179843 | L11: 11653436 | M11: 11612369 | N11: 12499147 | O11: 13270506 | P11: 15580088 | Q11: 16293571 | R11: 13267538
A12: APSE | B12: 1-Dados | C12: =VLOOKUP($A12,db_emp!$A$7:$N$156,2,FALSE) -> Apsen | D12: =VLOOKUP($A12,db_emp!$A$7:$N$157,D$5,FALSE) -> Ind. Farmacêutica | E12: =A12 -> APSE | F12: =VLOOKUP(E12,db_emp!$D$7:$E$156,2,FALSE) -> APSE | I12: 228759 | J12: 288879 | K12: 355074 | L12: 418914 | M12: 471587 | N12: 507968 | O12: 555629 | P12: 603990 | Q12: 632043 | R12: 698246
A13: ARAU | B13: 1-Dados | C13: =VLOOKUP($A13,db_emp!$A$7:$N$156,2,FALSE) -> Araújo | D13: =VLOOKUP($A13,db_emp!$A$7:$N$157,D$5,FALSE) -> Farmácias e Drogarias | E13: =A13 -> ARAU | F13: =VLOOKUP(E13,db_emp!$D$7:$E$156,2,FALSE) -> ARAU | I13: 288214 | J13: 366187 | K13: 417393 | L13: 423405 | M13: 490307 | N13: 572523 | O13: 660862 | P13: 752667 | Q13: 856225 | R13: 970080
A14: ASSI | B14: 1-Dados | C14: =VLOOKUP($A14,db_emp!$A$7:$N$156,2,FALSE) -> Assim Saúde | D14: =VLOOKUP($A14,db_emp!$A$7:$N$157,D$5,FALSE) -> Planos e Seguros | E14: =A14 -> ASSI | F14: =VLOOKUP(E14,db_emp!$D$7:$E$156,2,FALSE) -> ASSI | I14: - | J14: - | K14: 115817 | L14: 148208 | M14: 213618 | N14: 274675 | O14: 340052 | P14: 376159 | Q14: 354594 | R14: 250481
A15: ASZE | B15: 1-Dados | C15: =VLOOKUP($A15,db_emp!$A$7:$N$156,2,FALSE) -> AstraZeneca | D15: =VLOOKUP($A15,db_emp!$A$7:$N$157,D$5,FALSE) -> Ind. Farmacêutica | E15: =A15 -> ASZE | F15: =VLOOKUP(E15,db_emp!$D$7:$E$156,2,FALSE) -> ASZE | I15: - | J15: 457708 | K15: 421042 | L15: 436133 | M15: 423873 | N15: 521160 | O15: 760863 | P15: 858649 | Q15: - | R15: -
A16: ATHE | B16: 1-Dados | C16: =VLOOKUP($A16,db_emp!$A$7:$N$156,2,FALSE) -> Athena Saúde | D16: =VLOOKUP($A16,db_emp!$A$7:$N$157,D$5,FALSE) -> Planos e Seguros | E16: =A16 -> ATHE | F16: =VLOOKUP(E16,db_emp!$D$7:$E$156,2,FALSE) -> ATHE | I16: - | J16: - | K16: - | L16: - | M16: 273318 | N16: 673606 | O16: 1767544 | P16: 1762950 | Q16: 1658055 | R16: 2012119
A17: BAYE | B17: 1-Dados | C17: =VLOOKUP($A17,db_emp!$A$7:$N$156,2,FALSE) -> Bayer Pharma | D17: =VLOOKUP($A17,db_emp!$A$7:$N$157,D$5,FALSE) -> Ind. Farmacêutica | E17: =A17 -> BAYE | F17: =VLOOKUP(E17,db_emp!$D$7:$E$156,2,FALSE) -> BAYE | I17: 2882505 | J17: 3141372 | K17: 2924910 | L17: 2457675 | M17: 2788618 | N17: 3168723 | O17: 3476781 | P17: 2479924 | Q17: 2035939 | R17: 3359265
A18: BEPO | B18: 1-Dados | C18: =VLOOKUP($A18,db_emp!$A$7:$N$156,2,FALSE) -> BP - Beneficência Portuguesa de São Paulo | D18: =VLOOKUP($A18,db_emp!$A$7:$N$157,D$5,FALSE) -> Redes Hospitalares | E18: =A18 -> BEPO | F18: =VLOOKUP(E18,db_emp!$D$7:$E$156,2,FALSE) -> BEPO | I18: 860334 | J18: 814033 | K18: 473343 | L18: 828631 | M18: 944575 | N18: 939493 | O18: 897309 | P18: 906093 | Q18: 857958 | R18: 637754
A19: BLAU | B19: 1-Dados | C19: =VLOOKUP($A19,db_emp!$A$7:$N$156,2,FALSE) -> Blau | D19: =VLOOKUP($A19,db_emp!$A$7:$N$157,D$5,FALSE) -> Ind. Farmacêutica | E19: =A19 -> BLAU | F19: =VLOOKUP(E19,db_emp!$D$7:$E$156,2,FALSE) -> BLAU | I19: 78719 | J19: 79188 | K19: 97487 | L19: 138336 | M19: 223334 | N19: 265756 | O19: 221343 | P19: 1636289 | Q19: 1817934 | R19: 1995249
A20: BRIS | B20: 1-Dados | C20: =VLOOKUP($A20,db_emp!$A$7:$N$156,2,FALSE) -> Bristol-Myers Squibb | D20: =VLOOKUP($A20,db_emp!$A$7:$N$157,D$5,FALSE) -> Ind. Farmacêutica | E20: =A20 -> BRIS | F20: =VLOOKUP(E20,db_emp!$D$7:$E$156,2,FALSE) -> BRIS | I20: -73002 | J20: -75039 | K20: 75055 | L20: 142402 | M20: 316356 | N20: 309871 | O20: 445448 | P20: - | Q20: 684756 | R20: 863009
A21: BRSA | B21: 1-Dados | C21: =VLOOKUP($A21,db_emp!$A$7:$N$156,2,FALSE) -> Bradesco Saúde | D21: =VLOOKUP($A21,db_emp!$A$7:$N$157,D$5,FALSE) -> Planos e Seguros | E21: =A21 -> BRSA | F21: =VLOOKUP(E21,db_emp!$D$7:$E$156,2,FALSE) -> BRSA | I21: 3605433 | J21: 4623582 | K21: 5840566 | L21: 6415951 | M21: 7855211 | N21: 8260854 | O21: 8886633 | P21: 8834597 | Q21: 8869596 | R21: 10259324
A22: BUTA | B22: 1-Dados | C22: =VLOOKUP($A22,db_emp!$A$7:$N$156,2,FALSE) -> Fundação Butantan | D22: =VLOOKUP($A22,db_emp!$A$7:$N$157,D$5,FALSE) -> Ind. Farmacêutica | E22: =A22 -> BUTA | F22: BUTA | I22: 470102 | J22: 336535 | K22: 782957 | L22: 1454916 | M22: 2057040 | N22: 2840067 | O22: 3143052 | P22: 5721706 | Q22: 5428014 | R22: 6036228
A23: CARE | B23: 1-Dados | C23: =VLOOKUP($A23,db_emp!$A$7:$N$156,2,FALSE) -> Care Plus | D23: =VLOOKUP($A23,db_emp!$A$7:$N$157,D$5,FALSE) -> Planos e Seguros | E23: =A23 -> CARE | F23: =VLOOKUP(E23,db_emp!$D$7:$E$156,2,FALSE) -> CARE | I23: 37894 | J23: 55085 | K23: 81180 | L23: 136440 | M23: 530388 | N23: 610087 | O23: 686722 | P23: 673154 | Q23: 740451 | R23: 1..032.215
A24: CASS | B24: 1-Dados | C24: =VLOOKUP($A24,db_emp!$A$7:$N$156,2,FALSE) -> CASSI | D24: =VLOOKUP($A24,db_emp!$A$7:$N$157,D$5,FALSE) -> Planos e Seguros | E24: =A24 -> CASS | F24: =VLOOKUP(E24,db_emp!$D$7:$E$156,2,FALSE) -> CASS | I24: 879938 | J24: 640646 | K24: 490413 | L24: 278572 | M24: -99221 | N24: 844852 | O24: 1977516 | P24: 2321987 | Q24: 2032309 | R24: 2059555
A25: CEJA | B25: 1-Dados | C25: =VLOOKUP($A25,db_emp!$A$7:$N$156,2,FALSE) -> CEJAM | D25: =VLOOKUP($A25,db_emp!$A$7:$N$157,D$5,FALSE) -> Gestão como OS | E25: =A25 -> CEJA | F25: =VLOOKUP(E25,db_emp!$D$7:$E$156,2,FALSE) -> CEJA | I25: -4346 | J25: -14456 | K25: 3906 | L25: 7965 | M25: 33346 | N25: 26928 | O25: 95411 | P25: 76614 | Q25: 97312 | R25: 97312
A26: CIME | B26: 1-Dados | C26: =VLOOKUP($A26,db_emp!$A$7:$N$156,2,FALSE) -> Grupo Cimed | D26: =VLOOKUP($A26,db_emp!$A$7:$N$157,D$5,FALSE) -> Ind. Farmacêutica | E26: =A26 -> CIME | F26: =VLOOKUP(E26,db_emp!$D$7:$E$156,2,FALSE) -> CIME | I26: - | J26: - | K26: - | L26: 150020 | M26: 53710 | N26: 189513 | O26: 82787 | P26: 465055 | Q26: 536345 | R26: 788285
A27: CLAM | B27: 1-Dados | C27: =VLOOKUP($A27,db_emp!$A$7:$N$156,2,FALSE) -> Clamed | D27: =VLOOKUP($A27,db_emp!$A$7:$N$157,D$5,FALSE) -> Farmácias e Drogarias | E27: =A27 -> CLAM | F27: =VLOOKUP(E27,db_emp!$D$7:$E$156,2,FALSE) -> CLAM | I27: 84333 | J27: 113829 | K27: 144624 | L27: 170850 | M27: 203572 | N27: 226515 | O27: 258387 | P27: 303188 | Q27: 349315 | R27: -
A28: DASA | B28: 1-Dados | C28: =VLOOKUP($A28,db_emp!$A$7:$N$156,2,FALSE) -> DASA | D28: =VLOOKUP($A28,db_emp!$A$7:$N$157,D$5,FALSE) -> Diagnóstico e Terapia | E28: =A28 -> DASA | F28: =VLOOKUP(E28,db_emp!$D$7:$E$156,2,FALSE) -> DASA | I28: 2771272 | J28: 2789950 | K28: 2861044 | L28: 3319948 | M28: 3321417 | N28: 3263382 | O28: 3536231 | P28: 7542288 | Q28: 7078622 | R28: 7330427
A29: DIME | B29: 1-Dados | C29: =VLOOKUP($A29,db_emp!$A$7:$N$156,2,FALSE) -> DIMED/Grupo Panvel | D29: =VLOOKUP($A29,db_emp!$A$7:$N$157,D$5,FALSE) -> Farmácias e Drogarias | E29: =A29 -> DIME | F29: =VLOOKUP(E29,db_emp!$D$7:$E$156,2,FALSE) -> DIME | I29: 311302 | J29: 344142 | K29: 381650 | L29: 426747 | M29: 463912 | N29: 524176 | O29: 1010640 | P29: 1046195 | Q29: 1108162 | R29: 1173416
A30: DMIL | B30: 1-Dados | C30: =VLOOKUP($A30,db_emp!$A$7:$N$156,2,FALSE) -> d1000 | D30: =VLOOKUP($A30,db_emp!$A$7:$N$157,D$5,FALSE) -> Farmácias e Drogarias | E30: =A30 -> DMIL | F30: =VLOOKUP(E30,db_emp!$D$7:$E$156,2,FALSE) -> PROF | I30: - | J30: - | K30: 247626 | L30: 257269 | M30: 491570 | N30: 466049 | O30: 836159 | P30: 838138 | Q30: 849493 | R30: 870855
A31: DPSP | B31: 1-Dados | C31: =VLOOKUP($A31,db_emp!$A$7:$N$156,2,FALSE) -> Grupo DPSP | D31: =VLOOKUP($A31,db_emp!$A$7:$N$157,D$5,FALSE) -> Farmácias e Drogarias | E31: =A31 -> DPSP | F31: =VLOOKUP(E31,db_emp!$D$7:$E$156,2,FALSE) -> DPSP | I31: 1158749 | J31: 1158479 | K31: 1138411 | L31: 1448054 | M31: 1613201 | N31: 1765271 | O31: 1763081 | P31: 1893829 | Q31: 2164084 | R31: 2121470
A32: EBSE | B32: 1-Dados | C32: =VLOOKUP($A32,db_emp!$A$7:$N$156,2,FALSE) -> EBSERH | D32: =VLOOKUP($A32,db_emp!$A$7:$N$157,D$5,FALSE) -> Redes Hospitalares | E32: =A32 -> EBSE | F32: =VLOOKUP(E32,db_emp!$D$7:$E$156,2,FALSE) -> EBSE | I32: 1676 | J32: -6231 | K32: -70748 | L32: -59186 | M32: -240040 | N32: -288422 | O32: 54498 | P32: -51243 | Q32: -277086 | R32: 65372
A33: EINS | B33: 1-Dados | C33: =VLOOKUP($A33,db_emp!$A$7:$N$156,2,FALSE) -> Hospital Albert Einstein | D33: =VLOOKUP($A33,db_emp!$A$7:$N$157,D$5,FALSE) -> Redes Hospitalares | E33: =A33 -> EINS | F33: =VLOOKUP(E33,db_emp!$D$7:$E$156,2,FALSE) -> EINS | I33: 1973471 | J33: 2198032 | K33: - | L33: 2712316 | M33: 2952470 | N33: 3441271 | O33: 3629169 | P33: 4147698 | Q33: 4462941 | R33: 4812374
A34: ELFA | B34: 1-Dados | C34: =VLOOKUP($A34,db_emp!$A$7:$N$156,2,FALSE) -> Elfa Medicamentos | D34: =VLOOKUP($A34,db_emp!$A$7:$N$157,D$5,FALSE) -> Distribuição | E34: =A34 -> ELFA | F34: =VLOOKUP(E34,db_emp!$D$7:$E$156,2,FALSE) -> ELFA | I34: - | J34: - | K34: 131031 | L34: 350928 | M34: 420428 | N34: 462211 | O34: 1637570 | P34: 2034293 | Q34: 2155399 | R34: 3001537
A35: EMSA | B35: 1-Dados | C35: =VLOOKUP($A35,db_emp!$A$7:$N$156,2,FALSE) -> EMS | D35: =VLOOKUP($A35,db_emp!$A$7:$N$157,D$5,FALSE) -> Ind. Farmacêutica | E35: =A35 -> EMSA | F35: =VLOOKUP(E35,db_emp!$D$7:$E$156,2,FALSE) -> EMSA | I35: - | J35: - | K35: - | L35: 863011 | M35: 852074 | N35: 1159167 | O35: 1089954 | P35: 909367 | Q35: 1141574 | R35: 1055569
A36: EURO | B36: 1-Dados | C36: =VLOOKUP($A36,db_emp!$A$7:$N$156,2,FALSE) -> Eurofarma | D36: =VLOOKUP($A36,db_emp!$A$7:$N$157,D$5,FALSE) -> Ind. Farmacêutica | E36: =A36 -> EURO | F36: =VLOOKUP(E36,db_emp!$D$7:$E$156,2,FALSE) -> EURO | I36: 1016137 | J36: 1209128 | K36: - | L36: 1855626 | M36: 2188051 | N36: 2476430 | O36: 2765208 | P36: 3385494 | Q36: 3927523 | R36: 4106699
A37: FABC | B37: 1-Dados | C37: =VLOOKUP($A37,db_emp!$A$7:$N$156,2,FALSE) -> Fundação do ABC | D37: =VLOOKUP($A37,db_emp!$A$7:$N$157,D$5,FALSE) -> Gestão como OS | E37: =A37 -> FABC | F37: =VLOOKUP(E37,db_emp!$D$7:$E$156,2,FALSE) -> FABC | I37: 120805 | J37: 29438 | K37: -11376 | L37: -95417 | M37: -103345 | N37: -285262 | O37: -457181 | P37: -439833 | Q37: 417325 | R37: 583188
A38: FFME | B38: 1-Dados | C38: =VLOOKUP($A38,db_emp!$A$7:$N$156,2,FALSE) -> FFM USP | D38: =VLOOKUP($A38,db_emp!$A$7:$N$157,D$5,FALSE) -> Redes Hospitalares | E38: =A38 -> FFME | F38: FFME | I38: 157157 | J38: 186560 | K38: 205674 | L38: 226565 | M38: 240797 | N38: 254692 | O38: 261339 | P38: 274366 | Q38: 305061 | R38: 339392
A39: FLEU | B39: 1-Dados | C39: =VLOOKUP($A39,db_emp!$A$7:$N$156,2,FALSE) -> Fleury | D39: =VLOOKUP($A39,db_emp!$A$7:$N$157,D$5,FALSE) -> Diagnóstico e Terapia | E39: =A39 -> FLEU | F39: =VLOOKUP(E39,db_emp!$D$7:$E$156,2,FALSE) -> FLEU | I39: 1572964 | J39: 1655439 | K39: 1535725 | L39: 1706528 | M39: 1749961 | N39: 1758976 | O39: 1750850 | P39: 1854483 | Q39: 2701085 | R39: 5111070
A40: GEAP | B40: 1-Dados | C40: =VLOOKUP($A40,db_emp!$A$7:$N$156,2,FALSE) -> GEAP | D40: =VLOOKUP($A40,db_emp!$A$7:$N$157,D$5,FALSE) -> Planos e Seguros | E40: =A40 -> GEAP | F40: =VLOOKUP(E40,db_emp!$D$7:$E$156,2,FALSE) -> GEAP | I40: 7504 | J40: 194948 | K40: 41120 | L40: 201916 | M40: 497848 | N40: 629444 | O40: 1194924 | P40: 1831704 | Q40: 1976295 | R40: 2255318
...

Sheet RL
A1: RECEITA LÍQUIDA | H1: Soma | I1: =SUM(I7:I203) -> 1.5311106e+08 | J1: =SUM(J7:J203) -> 1.8161879e+08 | K1: =SUM(K7:K203) -> 2.002339e+08 | L1: =SUM(L7:L203) -> 2.4294787e+08 | M1: =SUM(M7:M203) -> 2.7017453e+08 | N1: =SUM(N7:N203) -> 312684535 | O1: =SUM(O7:O203) -> 3.4524947e+08 | P1: =SUM(P7:P203) -> 396917071 | ... R1: =SUM(R7:R203) -> 4.8322802e+08
H2: N. Empr. | I2: =COUNT(I7:I203) -> 68 | J2: =COUNT(J7:J203) -> 69 | K2: =COUNT(K7:K203) -> 71 | L2: =COUNT(L7:L203) -> 87 | M2: =COUNT(M7:M203) -> 89 | N2: =COUNT(N7:N203) -> 93 | O2: =COUNT(O7:O203) -> 95 | P2: =COUNT(P7:P203) -> 94 | ... R2: =COUNT(R7:R203) -> 88
A3: R$ Correntes | H3: Média | I3: =I1/I2 -> 2251633.3 | J3: =J1/J2 -> 2632156.3 | K3: =K1/K2 -> 2820195.8 | L3: =L1/L2 -> 2792504.2 | M3: =M1/M2 -> 3035668.8 | N3: =N1/N2 -> 3362199.3 | O3: =O1/O2 -> 3634205 | P3: =P1/P2 -> 4222522 | ... R3: =R1/R2 -> 5491227.5
A4: Milhares | H4: Cont.vazios | I4: =COUNTBLANK(I7:I104) -> 0 | J4: =COUNTBLANK(J7:J104) -> 0 | K4: =COUNTBLANK(K7:K104) -> 0 | L4: =COUNTBLANK(L7:L104) -> 0 | M4: =COUNTBLANK(M7:M104) -> 0 | N4: =COUNTBLANK(N7:N104) -> 0 | O4: =COUNTBLANK(O7:O104) -> 0 | P4: =COUNTBLANK(P7:P104) -> 0 | ... R4: =COUNTBLANK(R7:R104) -> 0
D5: 6 | G5: 12 | H5: =G5+1 -> 13
A6: Cod4 | B6: Tipo | C6: Grupo Empresarial | D6: Subsetor de origem | E6: Cod4 | F6: Grupo | I6: 2014 | J6: 2015 | K6: 2016 | L6: 2017 | M6: 2018 | N6: 2019 | O6: 2020 | P6: 2021 | Q6: 2022 | R6: 2023
A7: ACCA | B7: 1-Dados | C7: =VLOOKUP($A7,db_emp!$A$7:$N$156,2,FALSE) -> A.C. Camargo Cancer Center | D7: =VLOOKUP($A7,db_emp!$A$7:$N$157,D$5,FALSE) -> Redes Hospitalares | E7: =A7 -> ACCA | F7: =VLOOKUP($A7,db_emp!$A$7:$N$156,4,FALSE) -> ACCA | I7: - | J7: 1115210 | K7: 1299055 | L7: 1307914 | M7: 1351842 | N7: 1286069 | O7: 1101279 | P7: 1315279 | Q7: 1492930 | R7: 1698211
